BEGIN:VCALENDAR
VERSION:2.0
PRODID:-//Association sportive de golf du domaine de Saint Clair - ECPv6.15.20//NONSGML v1.0//EN
CALSCALE:GREGORIAN
METHOD:PUBLISH
X-ORIGINAL-URL:https://www.asgolfstclair.fr
X-WR-CALDESC:Évènements pour Association sportive de golf du domaine de Saint Clair
REFRESH-INTERVAL;VALUE=DURATION:PT1H
X-Robots-Tag:noindex
X-PUBLISHED-TTL:PT1H
BEGIN:VTIMEZONE
TZID:Europe/Paris
BEGIN:DAYLIGHT
TZOFFSETFROM:+0100
TZOFFSETTO:+0200
TZNAME:CEST
DTSTART:20250330T010000
END:DAYLIGHT
BEGIN:STANDARD
TZOFFSETFROM:+0200
TZOFFSETTO:+0100
TZNAME:CET
DTSTART:20251026T010000
END:STANDARD
BEGIN:DAYLIGHT
TZOFFSETFROM:+0100
TZOFFSETTO:+0200
TZNAME:CEST
DTSTART:20260329T010000
END:DAYLIGHT
BEGIN:STANDARD
TZOFFSETFROM:+0200
TZOFFSETTO:+0100
TZNAME:CET
DTSTART:20261025T010000
END:STANDARD
BEGIN:DAYLIGHT
TZOFFSETFROM:+0100
TZOFFSETTO:+0200
TZNAME:CEST
DTSTART:20270328T010000
END:DAYLIGHT
BEGIN:STANDARD
TZOFFSETFROM:+0200
TZOFFSETTO:+0100
TZNAME:CET
DTSTART:20271031T010000
END:STANDARD
END:VTIMEZONE
BEGIN:VEVENT
DTSTART;VALUE=DATE:20260604
DTEND;VALUE=DATE:20260605
DTSTAMP:20260425T152817
CREATED:20250604T135052Z
LAST-MODIFIED:20260222T152458Z
UID:24170-1780531200-1780617599@www.asgolfstclair.fr
SUMMARY:4 juin : competition ABEILLE Assurances
DESCRIPTION:
URL:https://www.asgolfstclair.fr/evenement/4-juin-competition-abeille-assurances/
CATEGORIES:2026,compet de club
ATTACH;FMTTYPE=image/jpeg:https://www.asgolfstclair.fr/wp-content/uploads/2022/10/0222-10-16-09.00.01.jpg
END:VEVENT
BEGIN:VEVENT
DTSTART;VALUE=DATE:20260611
DTEND;VALUE=DATE:20260612
DTSTAMP:20260425T152817
CREATED:20250611T171013Z
LAST-MODIFIED:20260222T144342Z
UID:23752-1781136000-1781222399@www.asgolfstclair.fr
SUMMARY:11 juin 2026 : le JOUR DU SENIOR
DESCRIPTION:
URL:https://www.asgolfstclair.fr/evenement/jds5-2026/
LOCATION:Golf de saint clair les annonay\, Lieu dit Le Pelou\, Rte du Golf\, Saint-Clair\, 07430\, France
CATEGORIES:2026,compet de club
ATTACH;FMTTYPE=image/jpeg:https://www.asgolfstclair.fr/wp-content/uploads/2025/11/2026_AS_jour-du-senior-1_aff-1500x844-1.jpg
ORGANIZER;CN="Jean Michel DIAZ":MAILTO:Jm.diaz@laposte.net
END:VEVENT
BEGIN:VEVENT
DTSTART;VALUE=DATE:20260628
DTEND;VALUE=DATE:20260629
DTSTAMP:20260425T152817
CREATED:20250628T144501Z
LAST-MODIFIED:20260222T152336Z
UID:24181-1782604800-1782691199@www.asgolfstclair.fr
SUMMARY:28 juin ; la Coupe des jardiniers (Scramble)
DESCRIPTION:
URL:https://www.asgolfstclair.fr/evenement/coupe-des-jardiniers-2026/
LOCATION:Golf de saint clair les annonay\, Lieu dit Le Pelou\, Rte du Golf\, Saint-Clair\, 07430\, France
CATEGORIES:2026,compet de club
ATTACH;FMTTYPE=image/jpeg:https://www.asgolfstclair.fr/wp-content/uploads/2023/02/coupe-des-jardiniers_1500x844_1.jpg
ORGANIZER;CN="golf de St Clair":MAILTO:golf@domainestclair.fr
END:VEVENT
END:VCALENDAR