BEGIN:VCALENDAR
VERSION:2.0
PRODID:-//Association sportive de golf du domaine de Saint Clair - ECPv6.15.20//NONSGML v1.0//EN
CALSCALE:GREGORIAN
METHOD:PUBLISH
X-ORIGINAL-URL:https://www.asgolfstclair.fr
X-WR-CALDESC:Évènements pour Association sportive de golf du domaine de Saint Clair
REFRESH-INTERVAL;VALUE=DURATION:PT1H
X-Robots-Tag:noindex
X-PUBLISHED-TTL:PT1H
BEGIN:VTIMEZONE
TZID:Europe/Paris
BEGIN:DAYLIGHT
TZOFFSETFROM:+0100
TZOFFSETTO:+0200
TZNAME:CEST
DTSTART:20250330T010000
END:DAYLIGHT
BEGIN:STANDARD
TZOFFSETFROM:+0200
TZOFFSETTO:+0100
TZNAME:CET
DTSTART:20251026T010000
END:STANDARD
BEGIN:DAYLIGHT
TZOFFSETFROM:+0100
TZOFFSETTO:+0200
TZNAME:CEST
DTSTART:20260329T010000
END:DAYLIGHT
BEGIN:STANDARD
TZOFFSETFROM:+0200
TZOFFSETTO:+0100
TZNAME:CET
DTSTART:20261025T010000
END:STANDARD
BEGIN:DAYLIGHT
TZOFFSETFROM:+0100
TZOFFSETTO:+0200
TZNAME:CEST
DTSTART:20270328T010000
END:DAYLIGHT
BEGIN:STANDARD
TZOFFSETFROM:+0200
TZOFFSETTO:+0100
TZNAME:CET
DTSTART:20271031T010000
END:STANDARD
END:VTIMEZONE
BEGIN:VEVENT
DTSTART;VALUE=DATE:20260604
DTEND;VALUE=DATE:20260605
DTSTAMP:20260422T101356
CREATED:20260127T150142Z
LAST-MODIFIED:20260127T150142Z
UID:24291-1780531200-1780617599@www.asgolfstclair.fr
SUMMARY:4 juin 2026 : l'AMICALE FEMININE au golf d'Albon
DESCRIPTION:
URL:https://www.asgolfstclair.fr/evenement/4-juin-2026-lamicale-feminine-au-golf-dalbon/
LOCATION:Albon Senaud\, Le Moulinet\, 410 route de Senaud\, Albon\, 26140\, France
CATEGORIES:2026,compet de ligue AURA
ATTACH;FMTTYPE=image/jpeg:https://www.asgolfstclair.fr/wp-content/uploads/2021/11/2021-11-18_hivenalesenior_09-e1643044339677.jpg
ORGANIZER;CN="Claude DUFOUR":MAILTO:ganidufour@hotmail.fr
END:VEVENT
BEGIN:VEVENT
DTSTART;VALUE=DATE:20260606
DTEND;VALUE=DATE:20260608
DTSTAMP:20260422T101356
CREATED:20250606T152023Z
LAST-MODIFIED:20260222T144325Z
UID:23631-1780704000-1780876799@www.asgolfstclair.fr
SUMMARY:6 & 7 juin 2026 : Qualif. Ligue Promo. Mid Messieurs à St Clair
DESCRIPTION:
URL:https://www.asgolfstclair.fr/evenement/2026-qualif-ligue-promo-mid-messieurs-st-clair/
LOCATION:Golf de saint clair les annonay\, Lieu dit Le Pelou\, Rte du Golf\, Saint-Clair\, 07430\, France
CATEGORIES:2026,compet de ligue AURA
ATTACH;FMTTYPE=image/jpeg:https://www.asgolfstclair.fr/wp-content/uploads/2025/11/ffgolf_qualif-promo-mid-messieurs_1500x844.jpg
ORGANIZER;CN="golf de St Clair":MAILTO:golf@domainestclair.fr
END:VEVENT
END:VCALENDAR