BEGIN:VCALENDAR
VERSION:2.0
PRODID:-//Association sportive de golf du domaine de Saint Clair - ECPv6.15.20//NONSGML v1.0//EN
CALSCALE:GREGORIAN
METHOD:PUBLISH
X-WR-CALNAME:Association sportive de golf du domaine de Saint Clair
X-ORIGINAL-URL:https://www.asgolfstclair.fr
X-WR-CALDESC:Évènements pour Association sportive de golf du domaine de Saint Clair
REFRESH-INTERVAL;VALUE=DURATION:PT1H
X-Robots-Tag:noindex
X-PUBLISHED-TTL:PT1H
BEGIN:VTIMEZONE
TZID:Europe/Paris
BEGIN:DAYLIGHT
TZOFFSETFROM:+0100
TZOFFSETTO:+0200
TZNAME:CEST
DTSTART:20250330T010000
END:DAYLIGHT
BEGIN:STANDARD
TZOFFSETFROM:+0200
TZOFFSETTO:+0100
TZNAME:CET
DTSTART:20251026T010000
END:STANDARD
BEGIN:DAYLIGHT
TZOFFSETFROM:+0100
TZOFFSETTO:+0200
TZNAME:CEST
DTSTART:20260329T010000
END:DAYLIGHT
BEGIN:STANDARD
TZOFFSETFROM:+0200
TZOFFSETTO:+0100
TZNAME:CET
DTSTART:20261025T010000
END:STANDARD
BEGIN:DAYLIGHT
TZOFFSETFROM:+0100
TZOFFSETTO:+0200
TZNAME:CEST
DTSTART:20270328T010000
END:DAYLIGHT
BEGIN:STANDARD
TZOFFSETFROM:+0200
TZOFFSETTO:+0100
TZNAME:CET
DTSTART:20271031T010000
END:STANDARD
END:VTIMEZONE
BEGIN:VEVENT
DTSTART;VALUE=DATE:20260507
DTEND;VALUE=DATE:20260508
DTSTAMP:20260422T112844
CREATED:20260127T145915Z
LAST-MODIFIED:20260127T145942Z
UID:24289-1778112000-1778198399@www.asgolfstclair.fr
SUMMARY:7 mai 2026 : l'AMICALE FEMININE au golf de Charmeil
DESCRIPTION:
URL:https://www.asgolfstclair.fr/evenement/2026-amicale-feminine-charmeil/
LOCATION:Domaine de Charmeil – Golf Hôtel Grenoble\, 154 Impasse de\, La Grande Grange\, Saint-Quentin-sur-Isère\, AURA\, 38210\, France
CATEGORIES:2026,compet de ligue AURA
ATTACH;FMTTYPE=image/jpeg:https://www.asgolfstclair.fr/wp-content/uploads/2021/11/golf_charmeil_02.jpg
ORGANIZER;CN="Claude DUFOUR":MAILTO:ganidufour@hotmail.fr
END:VEVENT
END:VCALENDAR