BEGIN:VCALENDAR
VERSION:2.0
PRODID:-//Association sportive de golf du domaine de Saint Clair - ECPv6.15.20//NONSGML v1.0//EN
CALSCALE:GREGORIAN
METHOD:PUBLISH
X-ORIGINAL-URL:https://www.asgolfstclair.fr
X-WR-CALDESC:Évènements pour Association sportive de golf du domaine de Saint Clair
REFRESH-INTERVAL;VALUE=DURATION:PT1H
X-Robots-Tag:noindex
X-PUBLISHED-TTL:PT1H
BEGIN:VTIMEZONE
TZID:Europe/Paris
BEGIN:DAYLIGHT
TZOFFSETFROM:+0100
TZOFFSETTO:+0200
TZNAME:CEST
DTSTART:20250330T010000
END:DAYLIGHT
BEGIN:STANDARD
TZOFFSETFROM:+0200
TZOFFSETTO:+0100
TZNAME:CET
DTSTART:20251026T010000
END:STANDARD
BEGIN:DAYLIGHT
TZOFFSETFROM:+0100
TZOFFSETTO:+0200
TZNAME:CEST
DTSTART:20260329T010000
END:DAYLIGHT
BEGIN:STANDARD
TZOFFSETFROM:+0200
TZOFFSETTO:+0100
TZNAME:CET
DTSTART:20261025T010000
END:STANDARD
BEGIN:DAYLIGHT
TZOFFSETFROM:+0100
TZOFFSETTO:+0200
TZNAME:CEST
DTSTART:20270328T010000
END:DAYLIGHT
BEGIN:STANDARD
TZOFFSETFROM:+0200
TZOFFSETTO:+0100
TZNAME:CET
DTSTART:20271031T010000
END:STANDARD
END:VTIMEZONE
BEGIN:VEVENT
DTSTART;VALUE=DATE:20260423
DTEND;VALUE=DATE:20260424
DTSTAMP:20260420T121508
CREATED:20260127T145734Z
LAST-MODIFIED:20260127T145734Z
UID:24287-1776902400-1776988799@www.asgolfstclair.fr
SUMMARY:23 avril 2026 : l'AMICALE FEMININE au golf du Clou
DESCRIPTION:
URL:https://www.asgolfstclair.fr/evenement/2026-amicale-feminine-le-clou/
LOCATION:Golf du Clou\, Route Départementale 1083\, Villars-les-Dombes\, AURA\, 01330\, France
CATEGORIES:2026,compet de ligue AURA
ATTACH;FMTTYPE=image/jpeg:https://www.asgolfstclair.fr/wp-content/uploads/2022/03/2022-03-10_coupelady_leclou_11.jpg
ORGANIZER;CN="Claude DUFOUR":MAILTO:ganidufour@hotmail.fr
END:VEVENT
BEGIN:VEVENT
DTSTART;VALUE=DATE:20260424
DTEND;VALUE=DATE:20260425
DTSTAMP:20260420T121508
CREATED:20260315T092724Z
LAST-MODIFIED:20260315T093529Z
UID:24762-1776988800-1777075199@www.asgolfstclair.fr
SUMMARY:24 avril\, la coupe LADY : St Clair rencontre Beaujolais au golf de Charmeil
DESCRIPTION:
URL:https://www.asgolfstclair.fr/evenement/lady-2026-tour2-charmeil/
LOCATION:Domaine de Charmeil – Golf Hôtel Grenoble\, 154 Impasse de\, La Grande Grange\, Saint-Quentin-sur-Isère\, AURA\, 38210\, France
CATEGORIES:2026,compet de ligue AURA
ATTACH;FMTTYPE=image/jpeg:https://www.asgolfstclair.fr/wp-content/uploads/2024/12/coupe-lady_1500x844_V2.jpg
ORGANIZER;CN="Sabine TEMPE":MAILTO:sabine@side-on.fr
END:VEVENT
END:VCALENDAR