BEGIN:VCALENDAR
VERSION:2.0
PRODID:-//Association sportive de golf du domaine de Saint Clair - ECPv6.15.20//NONSGML v1.0//EN
CALSCALE:GREGORIAN
METHOD:PUBLISH
X-ORIGINAL-URL:https://www.asgolfstclair.fr
X-WR-CALDESC:Évènements pour Association sportive de golf du domaine de Saint Clair
REFRESH-INTERVAL;VALUE=DURATION:PT1H
X-Robots-Tag:noindex
X-PUBLISHED-TTL:PT1H
BEGIN:VTIMEZONE
TZID:Europe/Paris
BEGIN:DAYLIGHT
TZOFFSETFROM:+0100
TZOFFSETTO:+0200
TZNAME:CEST
DTSTART:20250330T010000
END:DAYLIGHT
BEGIN:STANDARD
TZOFFSETFROM:+0200
TZOFFSETTO:+0100
TZNAME:CET
DTSTART:20251026T010000
END:STANDARD
BEGIN:DAYLIGHT
TZOFFSETFROM:+0100
TZOFFSETTO:+0200
TZNAME:CEST
DTSTART:20260329T010000
END:DAYLIGHT
BEGIN:STANDARD
TZOFFSETFROM:+0200
TZOFFSETTO:+0100
TZNAME:CET
DTSTART:20261025T010000
END:STANDARD
BEGIN:DAYLIGHT
TZOFFSETFROM:+0100
TZOFFSETTO:+0200
TZNAME:CEST
DTSTART:20270328T010000
END:DAYLIGHT
BEGIN:STANDARD
TZOFFSETFROM:+0200
TZOFFSETTO:+0100
TZNAME:CET
DTSTART:20271031T010000
END:STANDARD
END:VTIMEZONE
BEGIN:VEVENT
DTSTART;VALUE=DATE:20260702
DTEND;VALUE=DATE:20260703
DTSTAMP:20260425T134126
CREATED:20250702T171148Z
LAST-MODIFIED:20260222T144523Z
UID:23754-1782950400-1783036799@www.asgolfstclair.fr
SUMMARY:2 juillet 2026 : le JOUR DU SENIOR
DESCRIPTION:
URL:https://www.asgolfstclair.fr/evenement/jds6-2026/
LOCATION:Golf de saint clair les annonay\, Lieu dit Le Pelou\, Rte du Golf\, Saint-Clair\, 07430\, France
CATEGORIES:2026,compet de club
ATTACH;FMTTYPE=image/jpeg:https://www.asgolfstclair.fr/wp-content/uploads/2025/11/2026_AS_jour-du-senior-1_aff-1500x844-1.jpg
ORGANIZER;CN="Jean Michel DIAZ":MAILTO:Jm.diaz@laposte.net
END:VEVENT
BEGIN:VEVENT
DTSTART;VALUE=DATE:20260704
DTEND;VALUE=DATE:20260705
DTSTAMP:20260425T134126
CREATED:20250704T145954Z
LAST-MODIFIED:20260222T152309Z
UID:24188-1783123200-1783209599@www.asgolfstclair.fr
SUMMARY:4 juillet : finale des Championnats des écoles de Golf
DESCRIPTION:
URL:https://www.asgolfstclair.fr/evenement/4-juillet-finale-des-championnats-des-ecoles-de-golf/
LOCATION:Golf de saint clair les annonay\, Lieu dit Le Pelou\, Rte du Golf\, Saint-Clair\, 07430\, France
CATEGORIES:2026,compet de club
ATTACH;FMTTYPE=image/jpeg:https://www.asgolfstclair.fr/wp-content/uploads/2022/10/ecoledegolf.jpg
ORGANIZER;CN="golf de St Clair":MAILTO:golf@domainestclair.fr
END:VEVENT
BEGIN:VEVENT
DTSTART;VALUE=DATE:20260710
DTEND;VALUE=DATE:20260711
DTSTAMP:20260425T134126
CREATED:20250709T231040Z
LAST-MODIFIED:20260222T144550Z
UID:24139-1783641600-1783727999@www.asgolfstclair.fr
SUMMARY:10 juillet : le RINGER SCORE de l'été
DESCRIPTION:as2026
URL:https://www.asgolfstclair.fr/evenement/ringer-score-2026-4/
LOCATION:Golf de saint clair les annonay\, Lieu dit Le Pelou\, Rte du Golf\, Saint-Clair\, 07430\, France
CATEGORIES:2026,compet de l'AS
ATTACH;FMTTYPE=image/jpeg:https://www.asgolfstclair.fr/wp-content/uploads/2024/08/AS_ringer-score_1500x844_V2.jpg
ORGANIZER;CN="Jean Michel DIAZ":MAILTO:Jm.diaz@laposte.net
END:VEVENT
BEGIN:VEVENT
DTSTART;VALUE=DATE:20260712
DTEND;VALUE=DATE:20260713
DTSTAMP:20260425T134126
CREATED:20250712T145506Z
LAST-MODIFIED:20260222T152211Z
UID:24185-1783814400-1783900799@www.asgolfstclair.fr
SUMMARY:12 juillet : la COUPE DU DOMAINE (scramble)
DESCRIPTION:
URL:https://www.asgolfstclair.fr/evenement/coupe-du-domaine-2026/
LOCATION:Golf de saint clair les annonay\, Lieu dit Le Pelou\, Rte du Golf\, Saint-Clair\, 07430\, France
CATEGORIES:2026,compet de club
ATTACH;FMTTYPE=image/jpeg:https://www.asgolfstclair.fr/wp-content/uploads/2026/01/coupe-du-domaine_aff1500x844.jpg
ORGANIZER;CN="golf de St Clair":MAILTO:golf@domainestclair.fr
END:VEVENT
BEGIN:VEVENT
DTSTART;VALUE=DATE:20260714
DTEND;VALUE=DATE:20260715
DTSTAMP:20260425T134126
CREATED:20250714T171340Z
LAST-MODIFIED:20260222T144614Z
UID:23756-1783987200-1784073599@www.asgolfstclair.fr
SUMMARY:14 juillet 2026 : le JOUR DU SENIOR
DESCRIPTION:
URL:https://www.asgolfstclair.fr/evenement/jds7-2026/
LOCATION:Golf de saint clair les annonay\, Lieu dit Le Pelou\, Rte du Golf\, Saint-Clair\, 07430\, France
CATEGORIES:2026,compet de club
ATTACH;FMTTYPE=image/jpeg:https://www.asgolfstclair.fr/wp-content/uploads/2025/11/2026_AS_jour-du-senior-1_aff-1500x844-1.jpg
ORGANIZER;CN="Jean Michel DIAZ":MAILTO:Jm.diaz@laposte.net
END:VEVENT
BEGIN:VEVENT
DTSTART;VALUE=DATE:20260724
DTEND;VALUE=DATE:20260725
DTSTAMP:20260425T134126
CREATED:20250723T233042Z
LAST-MODIFIED:20260222T144638Z
UID:24141-1784851200-1784937599@www.asgolfstclair.fr
SUMMARY:24 juillet : le RINGER SCORE de l'été
DESCRIPTION:as2026
URL:https://www.asgolfstclair.fr/evenement/ringer-score-2026-5/
LOCATION:Golf de saint clair les annonay\, Lieu dit Le Pelou\, Rte du Golf\, Saint-Clair\, 07430\, France
CATEGORIES:2026,compet de l'AS
ATTACH;FMTTYPE=image/jpeg:https://www.asgolfstclair.fr/wp-content/uploads/2024/08/AS_ringer-score_1500x844_V2.jpg
ORGANIZER;CN="Jean Michel DIAZ":MAILTO:Jm.diaz@laposte.net
END:VEVENT
BEGIN:VEVENT
DTSTART;VALUE=DATE:20260726
DTEND;VALUE=DATE:20260727
DTSTAMP:20260425T134127
CREATED:20250725T234030Z
LAST-MODIFIED:20260222T144700Z
UID:24155-1785024000-1785110399@www.asgolfstclair.fr
SUMMARY:26 juillet : la COURSE A LA FICELLE à St Clair
DESCRIPTION:as2026
URL:https://www.asgolfstclair.fr/evenement/26-juillet-la-course-a-la-ficelle-a-st-clair/
LOCATION:Golf de saint clair les annonay\, Lieu dit Le Pelou\, Rte du Golf\, Saint-Clair\, 07430\, France
CATEGORIES:2026,compet de l'AS
ATTACH;FMTTYPE=image/jpeg:https://www.asgolfstclair.fr/wp-content/uploads/2025/12/2026-01-16_coursealaficelle_V2_aff1500x844.jpg
ORGANIZER;CN="AS Golf St Clair":MAILTO:asgolfstclair@gmail.com
END:VEVENT
END:VCALENDAR