BEGIN:VCALENDAR
VERSION:2.0
PRODID:-//Association sportive de golf du domaine de Saint Clair - ECPv6.15.20//NONSGML v1.0//EN
CALSCALE:GREGORIAN
METHOD:PUBLISH
X-ORIGINAL-URL:https://www.asgolfstclair.fr
X-WR-CALDESC:Évènements pour Association sportive de golf du domaine de Saint Clair
REFRESH-INTERVAL;VALUE=DURATION:PT1H
X-Robots-Tag:noindex
X-PUBLISHED-TTL:PT1H
BEGIN:VTIMEZONE
TZID:Europe/Paris
BEGIN:DAYLIGHT
TZOFFSETFROM:+0100
TZOFFSETTO:+0200
TZNAME:CEST
DTSTART:20250330T010000
END:DAYLIGHT
BEGIN:STANDARD
TZOFFSETFROM:+0200
TZOFFSETTO:+0100
TZNAME:CET
DTSTART:20251026T010000
END:STANDARD
BEGIN:DAYLIGHT
TZOFFSETFROM:+0100
TZOFFSETTO:+0200
TZNAME:CEST
DTSTART:20260329T010000
END:DAYLIGHT
BEGIN:STANDARD
TZOFFSETFROM:+0200
TZOFFSETTO:+0100
TZNAME:CET
DTSTART:20261025T010000
END:STANDARD
BEGIN:DAYLIGHT
TZOFFSETFROM:+0100
TZOFFSETTO:+0200
TZNAME:CEST
DTSTART:20270328T010000
END:DAYLIGHT
BEGIN:STANDARD
TZOFFSETFROM:+0200
TZOFFSETTO:+0100
TZNAME:CET
DTSTART:20271031T010000
END:STANDARD
END:VTIMEZONE
BEGIN:VEVENT
DTSTART;VALUE=DATE:20260519
DTEND;VALUE=DATE:20260520
DTSTAMP:20260423T103104
CREATED:20250518T223037Z
LAST-MODIFIED:20260222T144217Z
UID:24319-1779148800-1779235199@www.asgolfstclair.fr
SUMMARY:19 mai 2026 : INTERCLUB FOREZ v/s ST CLAIR à St Clair
DESCRIPTION:interclub organisé par les AS du Forez et de St Clair : un aller le 19 mai à St Clair et un retour le 2′ septembre au Forez : compétition ouverte à tous les seniors er Scramble à 2. Shotgun et remise des prix dans le cadre des animations. Règlement à venir.\nas2026
URL:https://www.asgolfstclair.fr/evenement/interclub-forez-st-clair-1/
LOCATION:Golf de saint clair les annonay\, Lieu dit Le Pelou\, Rte du Golf\, Saint-Clair\, 07430\, France
CATEGORIES:2026,compet de l'AS
ATTACH;FMTTYPE=image/jpeg:https://www.asgolfstclair.fr/wp-content/uploads/2026/02/interclub_forez-stclair_aff1500x844_i1.jpg
ORGANIZER;CN="Jean Michel DIAZ":MAILTO:Jm.diaz@laposte.net
END:VEVENT
END:VCALENDAR