BEGIN:VCALENDAR
VERSION:2.0
PRODID:-//Association sportive de golf du domaine de Saint Clair - ECPv6.15.20//NONSGML v1.0//EN
CALSCALE:GREGORIAN
METHOD:PUBLISH
X-ORIGINAL-URL:https://www.asgolfstclair.fr
X-WR-CALDESC:Évènements pour Association sportive de golf du domaine de Saint Clair
REFRESH-INTERVAL;VALUE=DURATION:PT1H
X-Robots-Tag:noindex
X-PUBLISHED-TTL:PT1H
BEGIN:VTIMEZONE
TZID:Europe/Paris
BEGIN:DAYLIGHT
TZOFFSETFROM:+0100
TZOFFSETTO:+0200
TZNAME:CEST
DTSTART:20250330T010000
END:DAYLIGHT
BEGIN:STANDARD
TZOFFSETFROM:+0200
TZOFFSETTO:+0100
TZNAME:CET
DTSTART:20251026T010000
END:STANDARD
BEGIN:DAYLIGHT
TZOFFSETFROM:+0100
TZOFFSETTO:+0200
TZNAME:CEST
DTSTART:20260329T010000
END:DAYLIGHT
BEGIN:STANDARD
TZOFFSETFROM:+0200
TZOFFSETTO:+0100
TZNAME:CET
DTSTART:20261025T010000
END:STANDARD
BEGIN:DAYLIGHT
TZOFFSETFROM:+0100
TZOFFSETTO:+0200
TZNAME:CEST
DTSTART:20270328T010000
END:DAYLIGHT
BEGIN:STANDARD
TZOFFSETFROM:+0200
TZOFFSETTO:+0100
TZNAME:CET
DTSTART:20271031T010000
END:STANDARD
END:VTIMEZONE
BEGIN:VEVENT
DTSTART;VALUE=DATE:20260704
DTEND;VALUE=DATE:20260705
DTSTAMP:20260425T122929
CREATED:20250704T145954Z
LAST-MODIFIED:20260222T152309Z
UID:24188-1783123200-1783209599@www.asgolfstclair.fr
SUMMARY:4 juillet : finale des Championnats des écoles de Golf
DESCRIPTION:
URL:https://www.asgolfstclair.fr/evenement/4-juillet-finale-des-championnats-des-ecoles-de-golf/
LOCATION:Golf de saint clair les annonay\, Lieu dit Le Pelou\, Rte du Golf\, Saint-Clair\, 07430\, France
CATEGORIES:2026,compet de club
ATTACH;FMTTYPE=image/jpeg:https://www.asgolfstclair.fr/wp-content/uploads/2022/10/ecoledegolf.jpg
ORGANIZER;CN="golf de St Clair":MAILTO:golf@domainestclair.fr
END:VEVENT
END:VCALENDAR